BEGIN:VCALENDAR
VERSION:2.0
PRODID:-//Boppard im Sommer - ECPv6.15.20//NONSGML v1.0//EN
CALSCALE:GREGORIAN
METHOD:PUBLISH
X-WR-CALNAME:Boppard im Sommer
X-ORIGINAL-URL:https://boppard-im-sommer.de
X-WR-CALDESC:Veranstaltungen für Boppard im Sommer
REFRESH-INTERVAL;VALUE=DURATION:PT1H
X-Robots-Tag:noindex
X-PUBLISHED-TTL:PT1H
BEGIN:VTIMEZONE
TZID:Europe/Berlin
BEGIN:DAYLIGHT
TZOFFSETFROM:+0100
TZOFFSETTO:+0200
TZNAME:CEST
DTSTART:20210328T010000
END:DAYLIGHT
BEGIN:STANDARD
TZOFFSETFROM:+0200
TZOFFSETTO:+0100
TZNAME:CET
DTSTART:20211031T010000
END:STANDARD
BEGIN:DAYLIGHT
TZOFFSETFROM:+0100
TZOFFSETTO:+0200
TZNAME:CEST
DTSTART:20220327T010000
END:DAYLIGHT
BEGIN:STANDARD
TZOFFSETFROM:+0200
TZOFFSETTO:+0100
TZNAME:CET
DTSTART:20221030T010000
END:STANDARD
BEGIN:DAYLIGHT
TZOFFSETFROM:+0100
TZOFFSETTO:+0200
TZNAME:CEST
DTSTART:20230326T010000
END:DAYLIGHT
BEGIN:STANDARD
TZOFFSETFROM:+0200
TZOFFSETTO:+0100
TZNAME:CET
DTSTART:20231029T010000
END:STANDARD
END:VTIMEZONE
BEGIN:VEVENT
DTSTART;TZID=Europe/Berlin:20221031T200000
DTEND;TZID=Europe/Berlin:20221101T030000
DTSTAMP:20260425T122810
CREATED:20220124T103349Z
LAST-MODIFIED:20220921T121620Z
UID:429-1667246400-1667271600@boppard-im-sommer.de
SUMMARY:Halloween - Monster Ball
DESCRIPTION:Unsere Halloween Party im Klosterkeller. \nMit DJ KIDBULL \nTickets\nVVK: 3\,- € (über das Ebertor)\nAK: 5\,- €
URL:https://boppard-im-sommer.de/event/helloween-monster-ball/
LOCATION:Das Ebertor\, Heerstraße 172\, Boppard\, RLP\, 56154\, Deutschland
CATEGORIES:Events
ATTACH;FMTTYPE=image/jpeg:https://boppard-im-sommer.de/wp-content/uploads/2022/01/Monsterball_web.jpg
ORGANIZER;CN="Das Ebertor":MAILTO:info@ebertor.de
END:VEVENT
BEGIN:VEVENT
DTSTART;TZID=Europe/Berlin:20221103T170000
DTEND;TZID=Europe/Berlin:20221223T210000
DTSTAMP:20260425T122810
CREATED:20220915T115312Z
LAST-MODIFIED:20220920T085337Z
UID:586-1667494800-1671829200@boppard-im-sommer.de
SUMMARY:Gänsezeit im Ebertor
DESCRIPTION:Donnerstags bis Montags (ab dem 03.11.2022) \nFür 4 Personen\, bitte mindestens 24h im Voraus bestellen. \nOfenfrische Gans an eigener Sauce \, serviert\nmit hausgemachten Kartoffelklößen\, Apfelrotkraut und\nMaronen. \npP 38\,00 € \nE-Mail: info@ebertor.de\nTel.: +49 6742 8070
URL:https://boppard-im-sommer.de/event/gaensezeit-im-ebertor/
CATEGORIES:Food
ATTACH;FMTTYPE=image/jpeg:https://boppard-im-sommer.de/wp-content/uploads/2022/09/Gans_Brasserie53.jpg
ORGANIZER;CN="Das Ebertor":MAILTO:info@ebertor.de
END:VEVENT
BEGIN:VEVENT
DTSTART;TZID=Europe/Berlin:20221113T143000
DTEND;TZID=Europe/Berlin:20221113T223000
DTSTAMP:20260425T122810
CREATED:20220920T085103Z
LAST-MODIFIED:20220921T123130Z
UID:601-1668349800-1668378600@boppard-im-sommer.de
SUMMARY:NFL Munich Game
DESCRIPTION:Seattle Seahawks vs. Tampa Bay Buccaneers \nIn der Lobby und der Brasserie 53 \nab 14.30 Uhr \nSpielstart 15.30 Uhr
URL:https://boppard-im-sommer.de/event/nfl-munich-game/
LOCATION:Das Ebertor\, Heerstraße 172\, Boppard\, RLP\, 56154\, Deutschland
CATEGORIES:Events
ATTACH;FMTTYPE=image/jpeg:https://boppard-im-sommer.de/wp-content/uploads/2022/09/nfl_munich_game.jpg
ORGANIZER;CN="Das Ebertor":MAILTO:info@ebertor.de
END:VEVENT
BEGIN:VEVENT
DTSTART;TZID=Europe/Berlin:20221126T180000
DTEND;TZID=Europe/Berlin:20221126T220000
DTSTAMP:20260425T122810
CREATED:20220915T121839Z
LAST-MODIFIED:20220921T123055Z
UID:591-1669485600-1669500000@boppard-im-sommer.de
SUMMARY:Der heiße Stein
DESCRIPTION:Die Rückkehr eines Ebertor-Klassikers.\nExklusiv im Klosterkeller.
URL:https://boppard-im-sommer.de/event/der-heisse-stein/
LOCATION:Brasserie 53\, Heerstraße 172\, Boppard\, Rheinland-Pfalz\, 56154\, Deutschland
CATEGORIES:Food
ATTACH;FMTTYPE=image/jpeg:https://boppard-im-sommer.de/wp-content/uploads/2022/09/Heisser_Stein.jpg
ORGANIZER;CN="Das Ebertor":MAILTO:info@ebertor.de
END:VEVENT
END:VCALENDAR