BEGIN:VCALENDAR
VERSION:2.0
PRODID:-//Boppard im Sommer - ECPv6.15.20//NONSGML v1.0//EN
CALSCALE:GREGORIAN
METHOD:PUBLISH
X-WR-CALNAME:Boppard im Sommer
X-ORIGINAL-URL:https://boppard-im-sommer.de
X-WR-CALDESC:Veranstaltungen für Boppard im Sommer
REFRESH-INTERVAL;VALUE=DURATION:PT1H
X-Robots-Tag:noindex
X-PUBLISHED-TTL:PT1H
BEGIN:VTIMEZONE
TZID:Europe/Berlin
BEGIN:DAYLIGHT
TZOFFSETFROM:+0100
TZOFFSETTO:+0200
TZNAME:CEST
DTSTART:20210328T010000
END:DAYLIGHT
BEGIN:STANDARD
TZOFFSETFROM:+0200
TZOFFSETTO:+0100
TZNAME:CET
DTSTART:20211031T010000
END:STANDARD
BEGIN:DAYLIGHT
TZOFFSETFROM:+0100
TZOFFSETTO:+0200
TZNAME:CEST
DTSTART:20220327T010000
END:DAYLIGHT
BEGIN:STANDARD
TZOFFSETFROM:+0200
TZOFFSETTO:+0100
TZNAME:CET
DTSTART:20221030T010000
END:STANDARD
BEGIN:DAYLIGHT
TZOFFSETFROM:+0100
TZOFFSETTO:+0200
TZNAME:CEST
DTSTART:20230326T010000
END:DAYLIGHT
BEGIN:STANDARD
TZOFFSETFROM:+0200
TZOFFSETTO:+0100
TZNAME:CET
DTSTART:20231029T010000
END:STANDARD
END:VTIMEZONE
BEGIN:VEVENT
DTSTART;VALUE=DATE:20220909
DTEND;VALUE=DATE:20220912
DTSTAMP:20260425T155357
CREATED:20220124T102625Z
LAST-MODIFIED:20220517T101343Z
UID:424-1662681600-1662940799@boppard-im-sommer.de
SUMMARY:Bier Festival
DESCRIPTION:Unser Bier Festival mit Live Musik uvm.\nMit den Wäller Jungs und zum Frühshoppen die Musikvereinigung „Harmonie“ e.V. Halsenbach
URL:https://boppard-im-sommer.de/event/bier-festival/
LOCATION:Benediktiner Biergarten Boppard\, Rheinallee 50\, 56154 Boppard\, 56154\, Deutschland
ATTACH;FMTTYPE=image/jpeg:https://boppard-im-sommer.de/wp-content/uploads/2022/01/bierfest_web.jpg
ORGANIZER;CN="Das Ebertor":MAILTO:info@ebertor.de
END:VEVENT
BEGIN:VEVENT
DTSTART;VALUE=DATE:20220916
DTEND;VALUE=DATE:20220919
DTSTAMP:20260425T155357
CREATED:20220124T102815Z
LAST-MODIFIED:20220517T102608Z
UID:427-1663286400-1663545599@boppard-im-sommer.de
SUMMARY:Bier Festival
DESCRIPTION:Das Bier Festival geht in die zweite Runde!\nMit den Wäller Jungs und am am Sonntag zusätzlich die Musikfreunde Boppard-Weiler (ab 13 Uhr)
URL:https://boppard-im-sommer.de/event/bier-festival-2/
LOCATION:Benediktiner Biergarten Boppard\, Rheinallee 50\, 56154 Boppard\, 56154\, Deutschland
ATTACH;FMTTYPE=image/jpeg:https://boppard-im-sommer.de/wp-content/uploads/2022/01/bierfest_web.jpg
ORGANIZER;CN="Das Ebertor":MAILTO:info@ebertor.de
END:VEVENT
BEGIN:VEVENT
DTSTART;VALUE=DATE:20220923
DTEND;VALUE=DATE:20220926
DTSTAMP:20260425T155357
CREATED:20220124T103531Z
LAST-MODIFIED:20220921T071155Z
UID:433-1663891200-1664150399@boppard-im-sommer.de
SUMMARY:Weinfest
DESCRIPTION:Weinfest im Benediktiner Biergarten Boppard mit Live Musik
URL:https://boppard-im-sommer.de/event/weinfest/
LOCATION:Benediktiner Biergarten Boppard\, Rheinallee 50\, 56154 Boppard\, 56154\, Deutschland
CATEGORIES:Events,Musik
ATTACH;FMTTYPE=image/jpeg:https://boppard-im-sommer.de/wp-content/uploads/2022/01/weinfest_boppard.jpg
ORGANIZER;CN="Das Ebertor":MAILTO:info@ebertor.de
END:VEVENT
BEGIN:VEVENT
DTSTART;VALUE=DATE:20220930
DTEND;VALUE=DATE:20221003
DTSTAMP:20260425T155357
CREATED:20220124T103736Z
LAST-MODIFIED:20220921T071123Z
UID:435-1664496000-1664755199@boppard-im-sommer.de
SUMMARY:Weinfest
DESCRIPTION:Weinfest im Benediktiner Biergarten Boppard mit Live Musik
URL:https://boppard-im-sommer.de/event/weinfest-2/
LOCATION:Benediktiner Biergarten Boppard\, Rheinallee 50\, 56154 Boppard\, 56154\, Deutschland
CATEGORIES:Events
ATTACH;FMTTYPE=image/jpeg:https://boppard-im-sommer.de/wp-content/uploads/2022/01/weinfest_boppard.jpg
ORGANIZER;CN="Das Ebertor":MAILTO:info@ebertor.de
END:VEVENT
END:VCALENDAR