BEGIN:VCALENDAR
VERSION:2.0
PRODID:-//Boppard im Sommer - ECPv6.15.20//NONSGML v1.0//EN
CALSCALE:GREGORIAN
METHOD:PUBLISH
X-WR-CALNAME:Boppard im Sommer
X-ORIGINAL-URL:https://boppard-im-sommer.de
X-WR-CALDESC:Veranstaltungen für Boppard im Sommer
REFRESH-INTERVAL;VALUE=DURATION:PT1H
X-Robots-Tag:noindex
X-PUBLISHED-TTL:PT1H
BEGIN:VTIMEZONE
TZID:Europe/Berlin
BEGIN:DAYLIGHT
TZOFFSETFROM:+0100
TZOFFSETTO:+0200
TZNAME:CEST
DTSTART:20210328T010000
END:DAYLIGHT
BEGIN:STANDARD
TZOFFSETFROM:+0200
TZOFFSETTO:+0100
TZNAME:CET
DTSTART:20211031T010000
END:STANDARD
BEGIN:DAYLIGHT
TZOFFSETFROM:+0100
TZOFFSETTO:+0200
TZNAME:CEST
DTSTART:20220327T010000
END:DAYLIGHT
BEGIN:STANDARD
TZOFFSETFROM:+0200
TZOFFSETTO:+0100
TZNAME:CET
DTSTART:20221030T010000
END:STANDARD
BEGIN:DAYLIGHT
TZOFFSETFROM:+0100
TZOFFSETTO:+0200
TZNAME:CEST
DTSTART:20230326T010000
END:DAYLIGHT
BEGIN:STANDARD
TZOFFSETFROM:+0200
TZOFFSETTO:+0100
TZNAME:CET
DTSTART:20231029T010000
END:STANDARD
END:VTIMEZONE
BEGIN:VEVENT
DTSTART;TZID=Europe/Berlin:20220812T180000
DTEND;TZID=Europe/Berlin:20220812T220000
DTSTAMP:20260425T172011
CREATED:20220124T101656Z
LAST-MODIFIED:20220126T172820Z
UID:418-1660327200-1660341600@boppard-im-sommer.de
SUMMARY:Live Rock mit den Thin Men
DESCRIPTION:Das Live Rock Event im Benediktiner Biergarten Boppard.
URL:https://boppard-im-sommer.de/event/live-rock-mit-den-thin-men/
LOCATION:Benediktiner Biergarten Boppard\, Rheinallee 50\, 56154 Boppard\, 56154\, Deutschland
CATEGORIES:Musik
ATTACH;FMTTYPE=image/jpeg:https://boppard-im-sommer.de/wp-content/uploads/2022/01/Rock_im_Ebertor_teaser.jpg
ORGANIZER;CN="Das Ebertor":MAILTO:info@ebertor.de
END:VEVENT
BEGIN:VEVENT
DTSTART;TZID=Europe/Berlin:20220826T180000
DTEND;TZID=Europe/Berlin:20220826T220000
DTSTAMP:20260425T172011
CREATED:20220124T102242Z
LAST-MODIFIED:20220727T120129Z
UID:421-1661536800-1661551200@boppard-im-sommer.de
SUMMARY:Back to the 90s - Party
DESCRIPTION:Die 90er Party im Benediktiner Biergarten Boppard.
URL:https://boppard-im-sommer.de/event/back-to-the-90s-party/
LOCATION:Benediktiner Biergarten Boppard\, Rheinallee 50\, 56154 Boppard\, 56154\, Deutschland
CATEGORIES:Musik
ATTACH;FMTTYPE=image/jpeg:https://boppard-im-sommer.de/wp-content/uploads/2022/01/90s_web.jpg
ORGANIZER;CN="Das Ebertor":MAILTO:info@ebertor.de
END:VEVENT
END:VCALENDAR