BEGIN:VCALENDAR
VERSION:2.0
PRODID:-//Boppard im Sommer - ECPv6.15.20//NONSGML v1.0//EN
CALSCALE:GREGORIAN
METHOD:PUBLISH
X-WR-CALNAME:Boppard im Sommer
X-ORIGINAL-URL:https://boppard-im-sommer.de
X-WR-CALDESC:Veranstaltungen für Boppard im Sommer
REFRESH-INTERVAL;VALUE=DURATION:PT1H
X-Robots-Tag:noindex
X-PUBLISHED-TTL:PT1H
BEGIN:VTIMEZONE
TZID:Europe/Berlin
BEGIN:DAYLIGHT
TZOFFSETFROM:+0100
TZOFFSETTO:+0200
TZNAME:CEST
DTSTART:20210328T010000
END:DAYLIGHT
BEGIN:STANDARD
TZOFFSETFROM:+0200
TZOFFSETTO:+0100
TZNAME:CET
DTSTART:20211031T010000
END:STANDARD
BEGIN:DAYLIGHT
TZOFFSETFROM:+0100
TZOFFSETTO:+0200
TZNAME:CEST
DTSTART:20220327T010000
END:DAYLIGHT
BEGIN:STANDARD
TZOFFSETFROM:+0200
TZOFFSETTO:+0100
TZNAME:CET
DTSTART:20221030T010000
END:STANDARD
BEGIN:DAYLIGHT
TZOFFSETFROM:+0100
TZOFFSETTO:+0200
TZNAME:CEST
DTSTART:20230326T010000
END:DAYLIGHT
BEGIN:STANDARD
TZOFFSETFROM:+0200
TZOFFSETTO:+0100
TZNAME:CET
DTSTART:20231029T010000
END:STANDARD
END:VTIMEZONE
BEGIN:VEVENT
DTSTART;TZID=Europe/Berlin:20220212T183000
DTEND;TZID=Europe/Berlin:20220212T220000
DTSTAMP:20260426T025245
CREATED:20220124T135150Z
LAST-MODIFIED:20220124T135150Z
UID:503-1644690600-1644703200@boppard-im-sommer.de
SUMMARY:Musikdinner: Musik liebt Harfe
DESCRIPTION:Romantische Harfenmusik aus 500 Jahren. Stephanie Zimmer von der Rheinischen Philharmonie verzaubert mit Ihrer Konzertharfe. \npro Person\n54\,00 EUR inkl. 4-Gang-Menü
URL:https://boppard-im-sommer.de/event/musikdinner-musik-liebt-harfe/
LOCATION:Le Bristol\, Rheinallee 41\, Boppard\, 56154\, Deutschland
CATEGORIES:Food,Musik
ATTACH;FMTTYPE=image/jpeg:https://boppard-im-sommer.de/wp-content/uploads/2022/01/Steff.jpg
ORGANIZER;CN="Bellevue Rheinhotel":MAILTO:info@bellevue-boppard.de
END:VEVENT
BEGIN:VEVENT
DTSTART;TZID=Europe/Berlin:20220213T170000
DTEND;TZID=Europe/Berlin:20220213T200000
DTSTAMP:20260426T025245
CREATED:20220124T134633Z
LAST-MODIFIED:20221129T135401Z
UID:499-1644771600-1644782400@boppard-im-sommer.de
SUMMARY:Superbowl Eventbox 2 Go
DESCRIPTION:Superbowl Eventbox für zu Hause \nWie auch zum letzten Superbowl\, bieten wir Euch diesmal unsere 2 Go Box an\, damit Ihr dieses Event der Superlative gemütlich zu Hause verbringen könnt.\nDie Boxen können ab sofort Vorbestellt werden.\nEin Anruf (06742/8070) oder eine E-Mail (info@ebertor.de) reicht aus um zu bestellen.
URL:https://boppard-im-sommer.de/event/superbowl-eventbox-2-go/
LOCATION:Das Ebertor\, Heerstraße 172\, Boppard\, RLP\, 56154\, Deutschland
CATEGORIES:Food
ATTACH;FMTTYPE=image/jpeg:https://boppard-im-sommer.de/wp-content/uploads/2022/01/superbowl_2Go_web.jpg
ORGANIZER;CN="Das Ebertor":MAILTO:info@ebertor.de
END:VEVENT
BEGIN:VEVENT
DTSTART;TZID=Europe/Berlin:20220226T183000
DTEND;TZID=Europe/Berlin:20220226T220000
DTSTAMP:20260426T025245
CREATED:20220124T135753Z
LAST-MODIFIED:20220124T140046Z
UID:508-1645900200-1645912800@boppard-im-sommer.de
SUMMARY:Musikdinner: Charlie Chaplin
DESCRIPTION:Wolfgang Nieß spielt raffinierte Klavierarrangements vieler unvergesslicher Film-Ohrwürmer aus der Feder dieses Allround-Genies und gibt mit heiteren Anekdoten erstaunliche Einblicke in die Biografie Chaplins. Ergänzt wird dieser Hörgenuss durch Leinwand-Präsentationen von Sabina Nieß. \npro Person\n54\,00 EUR inkl. 4-Gang-Menü
URL:https://boppard-im-sommer.de/event/musikdinner-charlie-chaplin/
LOCATION:Le Bristol\, Rheinallee 41\, Boppard\, 56154\, Deutschland
CATEGORIES:Food,Musik
ATTACH;FMTTYPE=image/jpeg:https://boppard-im-sommer.de/wp-content/uploads/2022/01/niess.jpg
ORGANIZER;CN="Bellevue Rheinhotel":MAILTO:info@bellevue-boppard.de
END:VEVENT
END:VCALENDAR